BEGIN:VCALENDAR
VERSION:2.0
PRODID:-//FK Tempo Partizánske - ECPv6.15.18//NONSGML v1.0//EN
CALSCALE:GREGORIAN
METHOD:PUBLISH
X-ORIGINAL-URL:https://fktempope.sk
X-WR-CALDESC:Udalosti pre FK Tempo Partizánske
REFRESH-INTERVAL;VALUE=DURATION:PT1H
X-Robots-Tag:noindex
X-PUBLISHED-TTL:PT1H
BEGIN:VTIMEZONE
TZID:Europe/Helsinki
BEGIN:DAYLIGHT
TZOFFSETFROM:+0200
TZOFFSETTO:+0300
TZNAME:EEST
DTSTART:20200329T010000
END:DAYLIGHT
BEGIN:STANDARD
TZOFFSETFROM:+0300
TZOFFSETTO:+0200
TZNAME:EET
DTSTART:20201025T010000
END:STANDARD
BEGIN:DAYLIGHT
TZOFFSETFROM:+0200
TZOFFSETTO:+0300
TZNAME:EEST
DTSTART:20210328T010000
END:DAYLIGHT
BEGIN:STANDARD
TZOFFSETFROM:+0300
TZOFFSETTO:+0200
TZNAME:EET
DTSTART:20211031T010000
END:STANDARD
BEGIN:DAYLIGHT
TZOFFSETFROM:+0200
TZOFFSETTO:+0300
TZNAME:EEST
DTSTART:20220327T010000
END:DAYLIGHT
BEGIN:STANDARD
TZOFFSETFROM:+0300
TZOFFSETTO:+0200
TZNAME:EET
DTSTART:20221030T010000
END:STANDARD
END:VTIMEZONE
BEGIN:VEVENT
DTSTART;TZID=Europe/Helsinki:20210807T100000
DTEND;TZID=Europe/Helsinki:20210807T140000
DTSTAMP:20260425T232627
CREATED:20210805T171624Z
LAST-MODIFIED:20210805T171634Z
UID:10000024-1628330400-1628344800@fktempope.sk
SUMMARY:Žiaci: FK TEMPO Partizánske - MFC SPARTAK Bánovce nad Bebravou
DESCRIPTION:
URL:https://fktempope.sk/event/fk-tempo-partizanske-mfc-spartak-banovce-nad-bebravou/
LOCATION:Ihrisko mládeže FK TEMPO Partizánske
END:VEVENT
END:VCALENDAR