BEGIN:VCALENDAR
VERSION:2.0
PRODID:-//FK Tempo Partizánske - ECPv6.15.18//NONSGML v1.0//EN
CALSCALE:GREGORIAN
METHOD:PUBLISH
X-WR-CALNAME:FK Tempo Partizánske
X-ORIGINAL-URL:https://fktempope.sk
X-WR-CALDESC:Udalosti pre FK Tempo Partizánske
REFRESH-INTERVAL;VALUE=DURATION:PT1H
X-Robots-Tag:noindex
X-PUBLISHED-TTL:PT1H
BEGIN:VTIMEZONE
TZID:Europe/Helsinki
BEGIN:DAYLIGHT
TZOFFSETFROM:+0200
TZOFFSETTO:+0300
TZNAME:EEST
DTSTART:20190331T010000
END:DAYLIGHT
BEGIN:STANDARD
TZOFFSETFROM:+0300
TZOFFSETTO:+0200
TZNAME:EET
DTSTART:20191027T010000
END:STANDARD
BEGIN:DAYLIGHT
TZOFFSETFROM:+0200
TZOFFSETTO:+0300
TZNAME:EEST
DTSTART:20200329T010000
END:DAYLIGHT
BEGIN:STANDARD
TZOFFSETFROM:+0300
TZOFFSETTO:+0200
TZNAME:EET
DTSTART:20201025T010000
END:STANDARD
BEGIN:DAYLIGHT
TZOFFSETFROM:+0200
TZOFFSETTO:+0300
TZNAME:EEST
DTSTART:20210328T010000
END:DAYLIGHT
BEGIN:STANDARD
TZOFFSETFROM:+0300
TZOFFSETTO:+0200
TZNAME:EET
DTSTART:20211031T010000
END:STANDARD
BEGIN:DAYLIGHT
TZOFFSETFROM:+0200
TZOFFSETTO:+0300
TZNAME:EEST
DTSTART:20220327T010000
END:DAYLIGHT
BEGIN:STANDARD
TZOFFSETFROM:+0300
TZOFFSETTO:+0200
TZNAME:EET
DTSTART:20221030T010000
END:STANDARD
END:VTIMEZONE
BEGIN:VEVENT
DTSTART;TZID=Europe/Helsinki:20200919T100000
DTEND;TZID=Europe/Helsinki:20200919T133000
DTSTAMP:20260425T200358
CREATED:20200915T175427Z
LAST-MODIFIED:20200915T175427Z
UID:10000021-1600509600-1600522200@fktempope.sk
SUMMARY:Žiaci: Trebatice - Tempo Partizánske
DESCRIPTION:
URL:https://fktempope.sk/event/ziaci-trebatice-tempo-partizanske/
END:VEVENT
BEGIN:VEVENT
DTSTART;TZID=Europe/Helsinki:20200919T150000
DTEND;TZID=Europe/Helsinki:20200919T170000
DTSTAMP:20260425T200358
CREATED:20200915T175519Z
LAST-MODIFIED:20200915T175519Z
UID:10000022-1600527600-1600534800@fktempope.sk
SUMMARY:Muži: Tempo Partizánske - Partizán Prečín
DESCRIPTION:
URL:https://fktempope.sk/event/muzi-tempo-partizanske-partizan-precin/
END:VEVENT
BEGIN:VEVENT
DTSTART;TZID=Europe/Helsinki:20200923T100000
DTEND;TZID=Europe/Helsinki:20200923T133000
DTSTAMP:20260425T200358
CREATED:20200915T175208Z
LAST-MODIFIED:20200915T175208Z
UID:10000020-1600855200-1600867800@fktempope.sk
SUMMARY:Žiaci: Tempo Partizánske - Nové Zámky
DESCRIPTION:
URL:https://fktempope.sk/event/ziaci-tempo-partizanske-nove-zamky/
END:VEVENT
BEGIN:VEVENT
DTSTART;TZID=Europe/Helsinki:20201007T130000
DTEND;TZID=Europe/Helsinki:20201007T150000
DTSTAMP:20260425T200358
CREATED:20200919T152435Z
LAST-MODIFIED:20200919T152435Z
UID:10000023-1602075600-1602082800@fktempope.sk
SUMMARY:Dorast: Tempo Partizánske - Spartak Myjava
DESCRIPTION:
URL:https://fktempope.sk/event/dorast-tempo-partizanske-spartak-myjava-2/
END:VEVENT
BEGIN:VEVENT
DTSTART;TZID=Europe/Helsinki:20210807T100000
DTEND;TZID=Europe/Helsinki:20210807T140000
DTSTAMP:20260425T200358
CREATED:20210805T171624Z
LAST-MODIFIED:20210805T171634Z
UID:10000024-1628330400-1628344800@fktempope.sk
SUMMARY:Žiaci: FK TEMPO Partizánske - MFC SPARTAK Bánovce nad Bebravou
DESCRIPTION:
URL:https://fktempope.sk/event/fk-tempo-partizanske-mfc-spartak-banovce-nad-bebravou/
LOCATION:Ihrisko mládeže FK TEMPO Partizánske
END:VEVENT
BEGIN:VEVENT
DTSTART;TZID=Europe/Helsinki:20210821T170000
DTEND;TZID=Europe/Helsinki:20210821T190000
DTSTAMP:20260425T200358
CREATED:20210814T192637Z
LAST-MODIFIED:20210814T192637Z
UID:10000031-1629565200-1629572400@fktempope.sk
SUMMARY:Muži: FK TEMPO - FC Slovan Galanta
DESCRIPTION:
URL:https://fktempope.sk/event/muzi-fk-tempo-fc-slovan-galanta/
LOCATION:Futbalový štadión Karola Jokla\, Rudolfa Jašíka 1646/73\, Partizánske\, 95801\, Slovakia (Slovak Republic)
END:VEVENT
BEGIN:VEVENT
DTSTART;TZID=Europe/Helsinki:20210822T100000
DTEND;TZID=Europe/Helsinki:20210822T143000
DTSTAMP:20260425T200358
CREATED:20210814T192231Z
LAST-MODIFIED:20210814T192231Z
UID:10000025-1629626400-1629642600@fktempope.sk
SUMMARY:Dorast: FK TEMPO - KFC Komárno
DESCRIPTION:
URL:https://fktempope.sk/event/dorast-fk-tempo-kfc-komarno/
LOCATION:Futbalový štadión Karola Jokla\, Rudolfa Jašíka 1646/73\, Partizánske\, 95801\, Slovakia (Slovak Republic)
END:VEVENT
BEGIN:VEVENT
DTSTART;TZID=Europe/Helsinki:20210901T160000
DTEND;TZID=Europe/Helsinki:20210901T180000
DTSTAMP:20260425T200358
CREATED:20210814T192718Z
LAST-MODIFIED:20210814T192718Z
UID:10000032-1630512000-1630519200@fktempope.sk
SUMMARY:Muži: FK TEMPO - FC Nitra
DESCRIPTION:
URL:https://fktempope.sk/event/muzi-fk-tempo-fc-nitra/
END:VEVENT
BEGIN:VEVENT
DTSTART;TZID=Europe/Helsinki:20210904T160000
DTEND;TZID=Europe/Helsinki:20210904T180000
DTSTAMP:20260425T200358
CREATED:20210814T192752Z
LAST-MODIFIED:20210814T192752Z
UID:10000033-1630771200-1630778400@fktempope.sk
SUMMARY:Muži: FK TEMPO - FC ViOn Zlaté Moravce-Vráble B
DESCRIPTION:
URL:https://fktempope.sk/event/muzi-fk-tempo-fc-vion-zlate-moravce-vrable-b/
END:VEVENT
BEGIN:VEVENT
DTSTART;TZID=Europe/Helsinki:20210905T100000
DTEND;TZID=Europe/Helsinki:20210905T143000
DTSTAMP:20260425T200358
CREATED:20210814T192328Z
LAST-MODIFIED:20210814T192328Z
UID:10000026-1630836000-1630852200@fktempope.sk
SUMMARY:Dorast: FK TEMPO - FC ViOn Zlaté Moravce-Vráble
DESCRIPTION:
URL:https://fktempope.sk/event/dorast-fk-tempo-fc-vion-zlate-moravce-vrable/
LOCATION:Futbalový štadión Karola Jokla\, Rudolfa Jašíka 1646/73\, Partizánske\, 95801\, Slovakia (Slovak Republic)
END:VEVENT
BEGIN:VEVENT
DTSTART;TZID=Europe/Helsinki:20210918T150000
DTEND;TZID=Europe/Helsinki:20210918T170000
DTSTAMP:20260425T200358
CREATED:20210814T192825Z
LAST-MODIFIED:20210814T192825Z
UID:10000034-1631977200-1631984400@fktempope.sk
SUMMARY:Muži: FK TEMPO - ŠK LR CRYSTAL
DESCRIPTION:
URL:https://fktempope.sk/event/muzi-fk-tempo-sk-lr-crystal/
LOCATION:Futbalový štadión Karola Jokla\, Rudolfa Jašíka 1646/73\, Partizánske\, 95801\, Slovakia (Slovak Republic)
END:VEVENT
BEGIN:VEVENT
DTSTART;TZID=Europe/Helsinki:20210926T100000
DTEND;TZID=Europe/Helsinki:20210926T143000
DTSTAMP:20260425T200358
CREATED:20210814T192400Z
LAST-MODIFIED:20210814T192400Z
UID:10000027-1632650400-1632666600@fktempope.sk
SUMMARY:Dorast: FK TEMPO - PFK Piešťany
DESCRIPTION:
URL:https://fktempope.sk/event/dorast-fk-tempo-pfk-piestany/
LOCATION:Futbalový štadión Karola Jokla\, Rudolfa Jašíka 1646/73\, Partizánske\, 95801\, Slovakia (Slovak Republic)
END:VEVENT
BEGIN:VEVENT
DTSTART;TZID=Europe/Helsinki:20211003T143000
DTEND;TZID=Europe/Helsinki:20211003T163000
DTSTAMP:20260425T200358
CREATED:20210814T192901Z
LAST-MODIFIED:20210814T192901Z
UID:10000035-1633271400-1633278600@fktempope.sk
SUMMARY:Muži: FK TEMPO - FKM Nové Zámky
DESCRIPTION:
URL:https://fktempope.sk/event/muzi-fk-tempo-fkm-nove-zamky/
LOCATION:Futbalový štadión Karola Jokla\, Rudolfa Jašíka 1646/73\, Partizánske\, 95801\, Slovakia (Slovak Republic)
END:VEVENT
BEGIN:VEVENT
DTSTART;TZID=Europe/Helsinki:20211010T100000
DTEND;TZID=Europe/Helsinki:20211010T143000
DTSTAMP:20260425T200358
CREATED:20210814T192435Z
LAST-MODIFIED:20210814T192435Z
UID:10000028-1633860000-1633876200@fktempope.sk
SUMMARY:Dorast: FK TEMPO - FKM Karlova Ves Bratislava
DESCRIPTION:
URL:https://fktempope.sk/event/dorast-fk-tempo-fkm-karlova-ves-bratislava/
LOCATION:Futbalový štadión Karola Jokla\, Rudolfa Jašíka 1646/73\, Partizánske\, 95801\, Slovakia (Slovak Republic)
END:VEVENT
BEGIN:VEVENT
DTSTART;TZID=Europe/Helsinki:20211017T140000
DTEND;TZID=Europe/Helsinki:20211017T160000
DTSTAMP:20260425T200358
CREATED:20210814T192940Z
LAST-MODIFIED:20210814T192940Z
UID:10000036-1634479200-1634486400@fktempope.sk
SUMMARY:Muži: FK TEMPO - TJ Imeľ
DESCRIPTION:
URL:https://fktempope.sk/event/muzi-fk-tempo-tj-imel/
LOCATION:Futbalový štadión Karola Jokla\, Rudolfa Jašíka 1646/73\, Partizánske\, 95801\, Slovakia (Slovak Republic)
END:VEVENT
BEGIN:VEVENT
DTSTART;TZID=Europe/Helsinki:20211024T100000
DTEND;TZID=Europe/Helsinki:20211024T143000
DTSTAMP:20260425T200358
CREATED:20210814T192507Z
LAST-MODIFIED:20210814T192507Z
UID:10000029-1635069600-1635085800@fktempope.sk
SUMMARY:Dorast: FK TEMPO - FK Inter Bratislava
DESCRIPTION:
URL:https://fktempope.sk/event/dorast-fk-tempo-fk-inter-bratislava/
LOCATION:Futbalový štadión Karola Jokla\, Rudolfa Jašíka 1646/73\, Partizánske\, 95801\, Slovakia (Slovak Republic)
END:VEVENT
BEGIN:VEVENT
DTSTART;TZID=Europe/Helsinki:20211024T140000
DTEND;TZID=Europe/Helsinki:20211024T160000
DTSTAMP:20260425T200358
CREATED:20210814T193013Z
LAST-MODIFIED:20210814T193013Z
UID:10000037-1635084000-1635091200@fktempope.sk
SUMMARY:Muži: FK TEMPO - FK Beluša
DESCRIPTION:
URL:https://fktempope.sk/event/muzi-fk-tempo-fk-belusa/
LOCATION:Futbalový štadión Karola Jokla\, Rudolfa Jašíka 1646/73\, Partizánske\, 95801\, Slovakia (Slovak Republic)
END:VEVENT
BEGIN:VEVENT
DTSTART;TZID=Europe/Helsinki:20211107T100000
DTEND;TZID=Europe/Helsinki:20211107T143000
DTSTAMP:20260425T200358
CREATED:20210814T192535Z
LAST-MODIFIED:20210814T192535Z
UID:10000030-1636279200-1636295400@fktempope.sk
SUMMARY:Dorast: FK TEMPO - Spartak Myjava
DESCRIPTION:
URL:https://fktempope.sk/event/dorast-fk-tempo-spartak-myjava/
LOCATION:Futbalový štadión Karola Jokla\, Rudolfa Jašíka 1646/73\, Partizánske\, 95801\, Slovakia (Slovak Republic)
END:VEVENT
BEGIN:VEVENT
DTSTART;TZID=Europe/Helsinki:20211107T133000
DTEND;TZID=Europe/Helsinki:20211107T153000
DTSTAMP:20260425T200358
CREATED:20210814T193046Z
LAST-MODIFIED:20210814T193046Z
UID:10000038-1636291800-1636299000@fktempope.sk
SUMMARY:Muži: FK TEMPO - FK Slovan Duslo Šaľa
DESCRIPTION:
URL:https://fktempope.sk/event/muzi-fk-tempo-fk-slovan-duslo-sala/
LOCATION:Futbalový štadión Karola Jokla\, Rudolfa Jašíka 1646/73\, Partizánske\, 95801\, Slovakia (Slovak Republic)
END:VEVENT
END:VCALENDAR